BEGIN:VCALENDAR
VERSION:2.0
PRODID:-//Lifesaving Touch CPR - ECPv6.15.20//NONSGML v1.0//EN
CALSCALE:GREGORIAN
METHOD:PUBLISH
X-WR-CALNAME:Lifesaving Touch CPR
X-ORIGINAL-URL:https://lifesavingtouchcpr.com
X-WR-CALDESC:Events for Lifesaving Touch CPR
REFRESH-INTERVAL;VALUE=DURATION:PT1H
X-Robots-Tag:noindex
X-PUBLISHED-TTL:PT1H
BEGIN:VTIMEZONE
TZID:America/Chicago
BEGIN:DAYLIGHT
TZOFFSETFROM:-0600
TZOFFSETTO:-0500
TZNAME:CDT
DTSTART:20170312T080000
END:DAYLIGHT
BEGIN:STANDARD
TZOFFSETFROM:-0500
TZOFFSETTO:-0600
TZNAME:CST
DTSTART:20171105T070000
END:STANDARD
BEGIN:DAYLIGHT
TZOFFSETFROM:-0600
TZOFFSETTO:-0500
TZNAME:CDT
DTSTART:20180311T080000
END:DAYLIGHT
BEGIN:STANDARD
TZOFFSETFROM:-0500
TZOFFSETTO:-0600
TZNAME:CST
DTSTART:20181104T070000
END:STANDARD
BEGIN:DAYLIGHT
TZOFFSETFROM:-0600
TZOFFSETTO:-0500
TZNAME:CDT
DTSTART:20190310T080000
END:DAYLIGHT
BEGIN:STANDARD
TZOFFSETFROM:-0500
TZOFFSETTO:-0600
TZNAME:CST
DTSTART:20191103T070000
END:STANDARD
END:VTIMEZONE
BEGIN:VEVENT
DTSTART;TZID=America/Chicago:20180728T090000
DTEND;TZID=America/Chicago:20180728T113000
DTSTAMP:20260423T103201
CREATED:20180622T010543Z
LAST-MODIFIED:20180622T010646Z
UID:3367-1532768400-1532777400@lifesavingtouchcpr.com
SUMMARY:Heartsaver CPR/AED
DESCRIPTION:
URL:https://lifesavingtouchcpr.com/event/heartsaver-cpr-aed-3/
END:VEVENT
BEGIN:VEVENT
DTSTART;TZID=America/Chicago:20180714T090000
DTEND;TZID=America/Chicago:20180714T113000
DTSTAMP:20260423T103201
CREATED:20180622T010439Z
LAST-MODIFIED:20180622T010439Z
UID:3365-1531558800-1531567800@lifesavingtouchcpr.com
SUMMARY:Heartsaver CPR/AED
DESCRIPTION:
URL:https://lifesavingtouchcpr.com/event/heartsaver-cpr-aed-2/
END:VEVENT
BEGIN:VEVENT
DTSTART;TZID=America/Chicago:20180630T090000
DTEND;TZID=America/Chicago:20180630T113000
DTSTAMP:20260423T103201
CREATED:20180622T010206Z
LAST-MODIFIED:20180622T010206Z
UID:3363-1530349200-1530358200@lifesavingtouchcpr.com
SUMMARY:Heartsaver CPR/AED
DESCRIPTION:
URL:https://lifesavingtouchcpr.com/event/heartsaver-cpr-aed/
END:VEVENT
END:VCALENDAR